BEGIN:VCALENDAR
VERSION:2.0
PRODID:-//Scottish Interfaith Week - ECPv6.15.20//NONSGML v1.0//EN
CALSCALE:GREGORIAN
METHOD:PUBLISH
X-ORIGINAL-URL:https://scottishinterfaithweek.org
X-WR-CALDESC:Events for Scottish Interfaith Week
REFRESH-INTERVAL;VALUE=DURATION:PT1H
X-Robots-Tag:noindex
X-PUBLISHED-TTL:PT1H
BEGIN:VTIMEZONE
TZID:UTC
BEGIN:STANDARD
TZOFFSETFROM:+0000
TZOFFSETTO:+0000
TZNAME:UTC
DTSTART:20240101T000000
END:STANDARD
END:VTIMEZONE
BEGIN:VEVENT
DTSTART;TZID=UTC:20251106T130000
DTEND;TZID=UTC:20251106T170000
DTSTAMP:20260425T120246
CREATED:20251009T102042Z
LAST-MODIFIED:20251009T132805Z
UID:10000449-1762434000-1762448400@scottishinterfaithweek.org
SUMMARY:10th Anniversary of Scottish Faiths Action for Refugees (private event)
DESCRIPTION:Scottish Faiths Action for Refugees are celebrating their ten year anniversary on Thursday 6th November 2025. \nThe private event will be held in the Interfaith Scotland offices. \nBooking information\nThis is a private event. For more information please contact rmoodie@churchofscotland.org.uk
URL:https://scottishinterfaithweek.org/event/10th-anniversary-ofscottish-faiths-action-for-refugees
CATEGORIES:Glasgow/West Central
ATTACH;FMTTYPE=image/png:https://scottishinterfaithweek.org/wp-content/uploads/2025/10/10th-Anniversary-of-Scottish-Faiths-Action-for-Refugees.png
END:VEVENT
END:VCALENDAR